Package: txcutr Version: 1.15.2 Command: /home/biocbuild/bbs-3.22-bioc/R/bin/R CMD INSTALL txcutr StartedAt: 2025-10-03 15:38:28 -0400 (Fri, 03 Oct 2025) EndedAt: 2025-10-03 15:39:03 -0400 (Fri, 03 Oct 2025) EllapsedTime: 35.2 seconds RetCode: 0 Status: OK