Package: txcutr Version: 1.15.2 Command: /home/biocbuild/bbs-3.22-bioc/R/bin/R CMD check --install=check:txcutr.install-out.txt --library=/home/biocbuild/bbs-3.22-bioc/R/site-library --timings txcutr_1.15.2.tar.gz StartedAt: 2025-10-06 05:28:51 -0400 (Mon, 06 Oct 2025) EndedAt: 2025-10-06 05:36:47 -0400 (Mon, 06 Oct 2025) EllapsedTime: 475.4 seconds RetCode: 0 Status: OK CheckDir: txcutr.Rcheck Warnings: 0