Package: txcutr Version: 1.15.2 Command: /Library/Frameworks/R.framework/Resources/bin/R CMD INSTALL txcutr StartedAt: 2025-10-05 15:36:23 -0400 (Sun, 05 Oct 2025) EndedAt: 2025-10-05 15:37:12 -0400 (Sun, 05 Oct 2025) EllapsedTime: 49.2 seconds RetCode: 0 Status: OK