Package: txcutr Version: 1.15.2 Command: /Library/Frameworks/R.framework/Resources/bin/R CMD check --install=check:txcutr.install-out.txt --library=/Library/Frameworks/R.framework/Resources/library --no-vignettes --timings txcutr_1.15.2.tar.gz StartedAt: 2025-10-06 22:20:12 -0400 (Mon, 06 Oct 2025) EndedAt: 2025-10-06 22:22:50 -0400 (Mon, 06 Oct 2025) EllapsedTime: 157.9 seconds RetCode: 0 Status: OK CheckDir: txcutr.Rcheck Warnings: 0