Package: txcutr Version: 1.15.2 Command: /Library/Frameworks/R.framework/Resources/bin/R CMD build --keep-empty-dirs --no-resave-data txcutr StartedAt: 2025-10-05 18:03:57 -0400 (Sun, 05 Oct 2025) EndedAt: 2025-10-05 18:04:28 -0400 (Sun, 05 Oct 2025) EllapsedTime: 31.3 seconds RetCode: 0 Status: OK PackageFile: txcutr_1.15.2.tar.gz PackageFileSize: 315.1 KiB