Package: txcutr Version: 1.15.2 Maintainer: Mervin Fansler MaintainerEmail: mervin.fansler at bric.ku.dk git_url: https://git.bioconductor.org/packages/txcutr git_branch: devel git_last_commit: e01f0e7 git_last_commit_date: 2025-09-07 08:44:28 -0400 (Sun, 07 Sep 2025)