Package: twoddpcr Version: 1.33.0 Command: /home/biocbuild/R/R/bin/R CMD INSTALL twoddpcr StartedAt: 2025-07-24 21:12:51 -0000 (Thu, 24 Jul 2025) EndedAt: 2025-07-24 21:13:09 -0000 (Thu, 24 Jul 2025) EllapsedTime: 18.1 seconds RetCode: 0 Status: OK