Package: twoddpcr Version: 1.33.0 Command: /home/biocbuild/R/R/bin/R CMD build --keep-empty-dirs --no-resave-data twoddpcr StartedAt: 2025-07-25 04:34:32 -0000 (Fri, 25 Jul 2025) EndedAt: 2025-07-25 04:37:53 -0000 (Fri, 25 Jul 2025) EllapsedTime: 201.1 seconds RetCode: 0 Status: OK PackageFile: twoddpcr_1.33.0.tar.gz PackageFileSize: 2.164 MiB