Package: twoddpcr Version: 1.33.0 Command: F:\biocbuild\bbs-3.22-bioc\R\bin\R.exe CMD INSTALL twoddpcr StartedAt: 2025-07-24 15:48:03 -0400 (Thu, 24 Jul 2025) EndedAt: 2025-07-24 15:49:40 -0400 (Thu, 24 Jul 2025) EllapsedTime: 97.3 seconds RetCode: 0 Status: OK