Package: twoddpcr Version: 1.33.0 Command: chmod a+r twoddpcr -R && F:\biocbuild\bbs-3.22-bioc\R\bin\R.exe CMD build --keep-empty-dirs --no-resave-data twoddpcr StartedAt: 2025-07-24 22:57:17 -0400 (Thu, 24 Jul 2025) EndedAt: 2025-07-24 23:02:45 -0400 (Thu, 24 Jul 2025) EllapsedTime: 328.5 seconds RetCode: 0 Status: OK PackageFile: twoddpcr_1.33.0.tar.gz PackageFileSize: 2.114 MiB