Package: twoddpcr Version: 1.33.0 Command: /home/biocbuild/bbs-3.22-bioc/R/bin/R CMD INSTALL twoddpcr StartedAt: 2025-06-29 15:15:11 -0400 (Sun, 29 Jun 2025) EndedAt: 2025-06-29 15:15:21 -0400 (Sun, 29 Jun 2025) EllapsedTime: 10.4 seconds RetCode: 0 Status: OK