Package: twoddpcr Version: 1.33.0 Command: /Library/Frameworks/R.framework/Resources/bin/R CMD build --keep-empty-dirs --no-resave-data twoddpcr StartedAt: 2025-06-29 18:39:05 -0400 (Sun, 29 Jun 2025) EndedAt: 2025-06-29 18:41:45 -0400 (Sun, 29 Jun 2025) EllapsedTime: 160.1 seconds RetCode: 0 Status: OK PackageFile: twoddpcr_1.33.0.tar.gz PackageFileSize: 3.968 MiB