Package: twilight Version: 1.85.0 Command: /home/biocbuild/R/R/bin/R CMD build --keep-empty-dirs --no-resave-data twilight StartedAt: 2025-10-03 04:00:47 -0000 (Fri, 03 Oct 2025) EndedAt: 2025-10-03 04:02:11 -0000 (Fri, 03 Oct 2025) EllapsedTime: 84.0 seconds RetCode: 0 Status: OK PackageFile: twilight_1.85.0.tar.gz PackageFileSize: 1.181 MiB