Package: twilight Version: 1.85.0 Command: F:\biocbuild\bbs-3.22-bioc\R\bin\R.exe CMD check --no-multiarch --install=check:twilight.install-out.txt --library=F:\biocbuild\bbs-3.22-bioc\R\library --no-vignettes --timings twilight_1.85.0.tar.gz StartedAt: 2025-08-15 09:03:02 -0400 (Fri, 15 Aug 2025) EndedAt: 2025-08-15 09:03:46 -0400 (Fri, 15 Aug 2025) EllapsedTime: 44.4 seconds RetCode: 0 Status: OK CheckDir: twilight.Rcheck Warnings: 0