Package: twilight Version: 1.85.0 Command: chmod a+r twilight -R && F:\biocbuild\bbs-3.22-bioc\R\bin\R.exe CMD build --keep-empty-dirs --no-resave-data twilight StartedAt: 2025-08-14 23:53:06 -0400 (Thu, 14 Aug 2025) EndedAt: 2025-08-14 23:54:40 -0400 (Thu, 14 Aug 2025) EllapsedTime: 94.2 seconds RetCode: 0 Status: OK PackageFile: twilight_1.85.0.tar.gz PackageFileSize: 946.2 KiB