Package: twilight Version: 1.85.0 Command: /home/biocbuild/bbs-3.22-bioc/R/bin/R CMD INSTALL twilight StartedAt: 2025-10-05 15:12:11 -0400 (Sun, 05 Oct 2025) EndedAt: 2025-10-05 15:12:16 -0400 (Sun, 05 Oct 2025) EllapsedTime: 4.7 seconds RetCode: 0 Status: OK