Package: twilight Version: 1.85.0 Command: /home/biocbuild/bbs-3.22-bioc/R/bin/R CMD build --keep-empty-dirs --no-resave-data --md5 twilight StartedAt: 2025-10-03 20:35:31 -0400 (Fri, 03 Oct 2025) EndedAt: 2025-10-03 20:36:41 -0400 (Fri, 03 Oct 2025) EllapsedTime: 70.0 seconds RetCode: 0 Status: OK PackageFile: twilight_1.85.0.tar.gz PackageFileSize: 1.196 MiB