Package: twilight Version: 1.85.0 Command: /Library/Frameworks/R.framework/Resources/bin/R CMD INSTALL twilight StartedAt: 2025-10-03 15:13:49 -0400 (Fri, 03 Oct 2025) EndedAt: 2025-10-03 15:14:07 -0400 (Fri, 03 Oct 2025) EllapsedTime: 17.8 seconds RetCode: 0 Status: OK