Package: twilight Version: 1.85.0 Command: rm -rf twilight.buildbin-libdir && mkdir twilight.buildbin-libdir && /Users/biocbuild/BBS/utils/build-universal.sh twilight_1.85.0.tar.gz /Library/Frameworks/R.framework/Resources/bin/R twilight.buildbin-libdir StartedAt: 2025-10-04 02:35:36 -0400 (Sat, 04 Oct 2025) EndedAt: 2025-10-04 02:35:49 -0400 (Sat, 04 Oct 2025) EllapsedTime: 13.9 seconds RetCode: 0 Status: OK PackageFile: twilight_1.85.0.tgz PackageFileSize: 1.219 MiB