Package: twilight Version: 1.85.0 Command: /Library/Frameworks/R.framework/Resources/bin/R CMD build --keep-empty-dirs --no-resave-data twilight StartedAt: 2025-10-05 18:03:53 -0400 (Sun, 05 Oct 2025) EndedAt: 2025-10-05 18:04:44 -0400 (Sun, 05 Oct 2025) EllapsedTime: 51.6 seconds RetCode: 0 Status: OK PackageFile: twilight_1.85.0.tar.gz PackageFileSize: 1.195 MiB