Package: tweeDEseq Version: 1.55.0 Command: /Library/Frameworks/R.framework/Resources/bin/R CMD INSTALL tweeDEseq StartedAt: 2025-07-01 15:03:18 -0400 (Tue, 01 Jul 2025) EndedAt: 2025-07-01 15:03:23 -0400 (Tue, 01 Jul 2025) EllapsedTime: 4.2 seconds RetCode: 0 Status: OK