Package: tweeDEseq Version: 1.55.0 Command: /Library/Frameworks/R.framework/Resources/bin/R CMD build --keep-empty-dirs --no-resave-data tweeDEseq StartedAt: 2025-07-01 17:49:24 -0400 (Tue, 01 Jul 2025) EndedAt: 2025-07-01 17:57:40 -0400 (Tue, 01 Jul 2025) EllapsedTime: 496.4 seconds RetCode: 0 Status: OK PackageFile: tweeDEseq_1.55.0.tar.gz PackageFileSize: 233.3 KiB