Package: tweeDEseq Version: 1.55.0 Command: rm -rf tweeDEseq.buildbin-libdir && mkdir tweeDEseq.buildbin-libdir && /Users/biocbuild/BBS/utils/build-universal.sh tweeDEseq_1.55.0.tar.gz /Library/Frameworks/R.framework/Resources/bin/R tweeDEseq.buildbin-libdir StartedAt: 2025-07-01 22:38:26 -0400 (Tue, 01 Jul 2025) EndedAt: 2025-07-01 22:38:32 -0400 (Tue, 01 Jul 2025) EllapsedTime: 5.1 seconds RetCode: 0 Status: OK PackageFile: tweeDEseq_1.55.0.tgz PackageFileSize: 351.5 KiB