Package: ttgsea Version: 1.17.0 Command: /home/biocbuild/R/R/bin/R CMD check --install=check:ttgsea.install-out.txt --library=/home/biocbuild/R/R/site-library --no-vignettes --timings ttgsea_1.17.0.tar.gz StartedAt: 2025-07-11 13:19:15 -0000 (Fri, 11 Jul 2025) EndedAt: 2025-07-11 13:21:35 -0000 (Fri, 11 Jul 2025) EllapsedTime: 140.2 seconds RetCode: 0 Status: OK CheckDir: ttgsea.Rcheck Warnings: 0