Package: ttgsea Version: 1.17.0 Command: /home/biocbuild/bbs-3.22-bioc/R/bin/R CMD INSTALL ttgsea StartedAt: 2025-07-16 15:10:46 -0400 (Wed, 16 Jul 2025) EndedAt: 2025-07-16 15:10:57 -0400 (Wed, 16 Jul 2025) EllapsedTime: 10.5 seconds RetCode: 0 Status: OK