Package: ttgsea Version: 1.17.0 Command: /Library/Frameworks/R.framework/Resources/bin/R CMD build --keep-empty-dirs --no-resave-data ttgsea StartedAt: 2025-07-21 17:49:26 -0400 (Mon, 21 Jul 2025) EndedAt: 2025-07-21 17:49:44 -0400 (Mon, 21 Jul 2025) EllapsedTime: 17.2 seconds RetCode: 1 Status: ERROR PackageFile: None PackageFileSize: NA