Package: tripr Version: 1.15.0 Command: F:\biocbuild\bbs-3.22-bioc\R\bin\R.exe CMD check --no-multiarch --install=check:tripr.install-out.txt --library=F:\biocbuild\bbs-3.22-bioc\R\library --no-vignettes --timings tripr_1.15.0.tar.gz StartedAt: 2025-07-23 07:50:46 -0400 (Wed, 23 Jul 2025) EndedAt: 2025-07-23 07:53:02 -0400 (Wed, 23 Jul 2025) EllapsedTime: 135.3 seconds RetCode: 0 Status: WARNINGS CheckDir: tripr.Rcheck Warnings: 1