Package: tripr Version: 1.15.0 Command: chmod a+r tripr -R && F:\biocbuild\bbs-3.22-bioc\R\bin\R.exe CMD build --keep-empty-dirs --no-resave-data tripr StartedAt: 2025-07-22 22:43:14 -0400 (Tue, 22 Jul 2025) EndedAt: 2025-07-22 22:44:20 -0400 (Tue, 22 Jul 2025) EllapsedTime: 65.9 seconds RetCode: 0 Status: OK PackageFile: tripr_1.15.0.tar.gz PackageFileSize: 2.939 MiB