Package: tripr Version: 1.15.0 Command: rm -rf tripr.buildbin-libdir && mkdir tripr.buildbin-libdir && F:\biocbuild\bbs-3.22-bioc\R\bin\R.exe CMD INSTALL --build --library=tripr.buildbin-libdir tripr_1.15.0.tar.gz StartedAt: 2025-07-23 10:23:14 -0400 (Wed, 23 Jul 2025) EndedAt: 2025-07-23 10:24:15 -0400 (Wed, 23 Jul 2025) EllapsedTime: 60.2 seconds RetCode: 0 Status: OK PackageFile: tripr_1.15.0.zip PackageFileSize: 4.076 MiB