Package: tripr Version: 1.15.0 Command: /Library/Frameworks/R.framework/Resources/bin/R CMD check --install=check:tripr.install-out.txt --library=/Library/Frameworks/R.framework/Resources/library --no-vignettes --timings tripr_1.15.0.tar.gz StartedAt: 2025-07-08 00:12:15 -0400 (Tue, 08 Jul 2025) EndedAt: 2025-07-08 00:15:52 -0400 (Tue, 08 Jul 2025) EllapsedTime: 216.7 seconds RetCode: 0 Status: WARNINGS CheckDir: tripr.Rcheck Warnings: 1