Package: triplex Version: 1.49.0 Command: /home/biocbuild/R/R/bin/R CMD INSTALL triplex StartedAt: 2025-07-10 21:51:10 -0000 (Thu, 10 Jul 2025) EndedAt: 2025-07-10 21:51:33 -0000 (Thu, 10 Jul 2025) EllapsedTime: 23.1 seconds RetCode: 0 Status: OK