Package: triplex Version: 1.49.0 Command: chmod a+r triplex -R && F:\biocbuild\bbs-3.22-bioc\R\bin\R.exe CMD build --keep-empty-dirs --no-resave-data triplex StartedAt: 2025-07-24 22:55:29 -0400 (Thu, 24 Jul 2025) EndedAt: 2025-07-24 22:56:33 -0400 (Thu, 24 Jul 2025) EllapsedTime: 63.0 seconds RetCode: 0 Status: OK PackageFile: triplex_1.49.0.tar.gz PackageFileSize: 480.8 KiB