Package: triplex Version: 1.49.0 Command: rm -rf triplex.buildbin-libdir && mkdir triplex.buildbin-libdir && F:\biocbuild\bbs-3.22-bioc\R\bin\R.exe CMD INSTALL --build --library=triplex.buildbin-libdir triplex_1.49.0.tar.gz StartedAt: 2025-07-25 10:33:02 -0400 (Fri, 25 Jul 2025) EndedAt: 2025-07-25 10:34:05 -0400 (Fri, 25 Jul 2025) EllapsedTime: 63.7 seconds RetCode: 0 Status: OK PackageFile: triplex_1.49.0.zip PackageFileSize: 815.2 KiB