Package: triplex Version: 1.49.0 Command: /home/biocbuild/bbs-3.22-bioc/R/bin/R CMD INSTALL triplex StartedAt: 2025-07-15 15:34:42 -0400 (Tue, 15 Jul 2025) EndedAt: 2025-07-15 15:34:58 -0400 (Tue, 15 Jul 2025) EllapsedTime: 15.9 seconds RetCode: 0 Status: OK