Package: triplex Version: 1.49.0 Command: /home/biocbuild/bbs-3.22-bioc/R/bin/R CMD build --keep-empty-dirs --no-resave-data --md5 triplex StartedAt: 2025-07-01 19:36:48 -0400 (Tue, 01 Jul 2025) EndedAt: 2025-07-01 19:37:20 -0400 (Tue, 01 Jul 2025) EllapsedTime: 31.0 seconds RetCode: 0 Status: OK PackageFile: triplex_1.49.0.tar.gz PackageFileSize: 601.7 KiB