Package: triplex Version: 1.49.0 Command: rm -rf triplex.buildbin-libdir && mkdir triplex.buildbin-libdir && /Users/biocbuild/BBS/utils/build-universal.sh triplex_1.49.0.tar.gz /Library/Frameworks/R.framework/Resources/bin/R triplex.buildbin-libdir StartedAt: 2025-07-05 01:13:43 -0400 (Sat, 05 Jul 2025) EndedAt: 2025-07-05 01:14:08 -0400 (Sat, 05 Jul 2025) EllapsedTime: 25.5 seconds RetCode: 0 Status: OK PackageFile: triplex_1.49.0.tgz PackageFileSize: 933.6 KiB