Package: triplex Version: 1.49.0 Command: /Library/Frameworks/R.framework/Resources/bin/R CMD check --install=check:triplex.install-out.txt --library=/Library/Frameworks/R.framework/Resources/library --no-vignettes --timings triplex_1.49.0.tar.gz StartedAt: 2025-07-07 21:52:14 -0400 (Mon, 07 Jul 2025) EndedAt: 2025-07-07 21:52:47 -0400 (Mon, 07 Jul 2025) EllapsedTime: 33.4 seconds RetCode: 0 Status: WARNINGS CheckDir: triplex.Rcheck Warnings: 2