Package: trio Version: 3.47.0 Command: /home/biocbuild/R/R/bin/R CMD INSTALL trio StartedAt: 2025-07-07 20:20:26 -0000 (Mon, 07 Jul 2025) EndedAt: 2025-07-07 20:21:09 -0000 (Mon, 07 Jul 2025) EllapsedTime: 43.4 seconds RetCode: 0 Status: OK