Package: trio Version: 3.47.0 Command: /home/biocbuild/R/R/bin/R CMD build --keep-empty-dirs --no-resave-data trio StartedAt: 2025-07-08 03:17:52 -0000 (Tue, 08 Jul 2025) EndedAt: 2025-07-08 03:19:09 -0000 (Tue, 08 Jul 2025) EllapsedTime: 77.1 seconds RetCode: 0 Status: OK PackageFile: trio_3.47.0.tar.gz PackageFileSize: 742.1 KiB