Package: trio Version: 3.47.0 Command: F:\biocbuild\bbs-3.22-bioc\R\bin\R.exe CMD INSTALL trio StartedAt: 2025-07-20 16:42:55 -0400 (Sun, 20 Jul 2025) EndedAt: 2025-07-20 16:43:59 -0400 (Sun, 20 Jul 2025) EllapsedTime: 63.5 seconds RetCode: 0 Status: OK