Package: trio Version: 3.47.0 Command: /home/biocbuild/bbs-3.22-bioc/R/bin/R CMD INSTALL trio StartedAt: 2025-07-04 15:12:25 -0400 (Fri, 04 Jul 2025) EndedAt: 2025-07-04 15:12:48 -0400 (Fri, 04 Jul 2025) EllapsedTime: 22.7 seconds RetCode: 0 Status: OK