Package: trio Version: 3.47.0 Command: /home/biocbuild/bbs-3.22-bioc/R/bin/R CMD build --keep-empty-dirs --no-resave-data --md5 trio StartedAt: 2025-07-04 19:32:56 -0400 (Fri, 04 Jul 2025) EndedAt: 2025-07-04 19:33:46 -0400 (Fri, 04 Jul 2025) EllapsedTime: 50.1 seconds RetCode: 0 Status: OK PackageFile: trio_3.47.0.tar.gz PackageFileSize: 756 KiB