Package: trio Version: 3.47.0 Command: /Library/Frameworks/R.framework/Resources/bin/R CMD INSTALL trio StartedAt: 2025-07-13 15:17:46 -0400 (Sun, 13 Jul 2025) EndedAt: 2025-07-13 15:18:16 -0400 (Sun, 13 Jul 2025) EllapsedTime: 30.2 seconds RetCode: 0 Status: OK