Package: trio Version: 3.47.0 Command: /Library/Frameworks/R.framework/Resources/bin/R CMD check --install=check:trio.install-out.txt --library=/Library/Frameworks/R.framework/Resources/library --no-vignettes --timings trio_3.47.0.tar.gz StartedAt: 2025-07-07 21:52:14 -0400 (Mon, 07 Jul 2025) EndedAt: 2025-07-07 21:53:04 -0400 (Mon, 07 Jul 2025) EllapsedTime: 50.6 seconds RetCode: 0 Status: OK CheckDir: trio.Rcheck Warnings: 0