Package: trio Version: 3.47.0 Command: /Library/Frameworks/R.framework/Resources/bin/R CMD build --keep-empty-dirs --no-resave-data trio StartedAt: 2025-07-07 17:47:12 -0400 (Mon, 07 Jul 2025) EndedAt: 2025-07-07 17:47:34 -0400 (Mon, 07 Jul 2025) EllapsedTime: 21.2 seconds RetCode: 0 Status: OK PackageFile: trio_3.47.0.tar.gz PackageFileSize: 753.1 KiB