Package: trigger Version: 1.53.1 Command: F:\biocbuild\bbs-3.22-bioc\R\bin\R.exe CMD INSTALL trigger StartedAt: 2025-04-08 16:22:43 -0400 (Tue, 08 Apr 2025) EndedAt: 2025-04-08 16:22:45 -0400 (Tue, 08 Apr 2025) EllapsedTime: 2.0 seconds RetCode: 1 Status: ERROR