Package: trigger Version: 1.53.1 Command: chmod a+r trigger -R && F:\biocbuild\bbs-3.22-bioc\R\bin\R.exe CMD build --keep-empty-dirs --no-resave-data trigger StartedAt: 2025-04-08 22:57:55 -0400 (Tue, 08 Apr 2025) EndedAt: 2025-04-08 22:57:59 -0400 (Tue, 08 Apr 2025) EllapsedTime: 3.4 seconds RetCode: 1 Status: ERROR PackageFile: None PackageFileSize: NA