Package: trigger Version: 1.53.1 Maintainer: John D. Storey MaintainerEmail: jstorey at princeton.edu git_url: https://git.bioconductor.org/packages/trigger git_branch: devel git_last_commit: d0917ed git_last_commit_date: 2025-03-26 11:18:40 -0400 (Wed, 26 Mar 2025)