Package: tricycle Version: 1.17.0 Command: F:\biocbuild\bbs-3.22-bioc\R\bin\R.exe CMD check --no-multiarch --install=check:tricycle.install-out.txt --library=F:\biocbuild\bbs-3.22-bioc\R\library --no-vignettes --timings tricycle_1.17.0.tar.gz StartedAt: 2025-07-12 07:32:59 -0400 (Sat, 12 Jul 2025) EndedAt: 2025-07-12 07:37:54 -0400 (Sat, 12 Jul 2025) EllapsedTime: 295.3 seconds RetCode: 0 Status: OK CheckDir: tricycle.Rcheck Warnings: 0