############################################################################## ############################################################################## ### ### Running command: ### ### /home/biocbuild/R/R/bin/R CMD check --install=check:treeclimbR.install-out.txt --library=/home/biocbuild/R/R/site-library --no-vignettes --timings treeclimbR_1.5.0.tar.gz ### ############################################################################## ############################################################################## * using log directory ‘/home/biocbuild/bbs-3.22-bioc/meat/treeclimbR.Rcheck’ * using R version 4.5.0 (2025-04-11) * using platform: aarch64-unknown-linux-gnu * R was compiled by aarch64-unknown-linux-gnu-gcc (GCC) 14.2.0 GNU Fortran (GCC) 14.2.0 * running under: openEuler 24.03 (LTS) * using session charset: UTF-8 * using option ‘--no-vignettes’ * checking for file ‘treeclimbR/DESCRIPTION’ ... OK * checking extension type ... Package * this is package ‘treeclimbR’ version ‘1.5.0’ * package encoding: UTF-8 * checking package namespace information ... OK * checking package dependencies ... OK * checking if this is a source package ... OK * checking if there is a namespace ... OK * checking for hidden files and directories ... OK * checking for portable file names ... OK * checking for sufficient/correct file permissions ... OK * checking whether package ‘treeclimbR’ can be installed ... OK * checking installed package size ... OK * checking package directory ... OK * checking ‘build’ directory ... OK * checking DESCRIPTION meta-information ... OK * checking top-level files ... OK * checking for left-over files ... OK * checking index information ... OK * checking package subdirectories ... OK * checking code files for non-ASCII characters ... OK * checking R files for syntax errors ... OK * checking whether the package can be loaded ... OK * checking whether the package can be loaded with stated dependencies ... OK * checking whether the package can be unloaded cleanly ... OK * checking whether the namespace can be loaded with stated dependencies ... OK * checking whether the namespace can be unloaded cleanly ... OK * checking loading without being on the library search path ... OK * checking dependencies in R code ... OK * checking S3 generic/method consistency ... OK * checking replacement functions ... OK * checking foreign function calls ... OK * checking R code for possible problems ... OK * checking Rd files ... OK * checking Rd metadata ... OK * checking Rd cross-references ... OK * checking for missing documentation entries ... OK * checking for code/documentation mismatches ... OK * checking Rd \usage sections ... OK * checking Rd contents ... OK * checking for unstated dependencies in examples ... OK * checking files in ‘vignettes’ ... OK * checking examples ... OK Examples with CPU (user + system) or elapsed time > 5s user system elapsed diffcyt_workflow 14.732 0.347 15.159 TreeHeatmap 7.334 0.232 7.879 * checking for unstated dependencies in ‘tests’ ... OK * checking tests ... Running ‘testthat.R’ ERROR Running the tests in ‘tests/testthat.R’ failed. Last 13 lines of output: 1. ├─testthat::expect_error(do.call(runDA, args), "'feature_on_row' must be of class 'logical'") at test-runDA.R:22:5 2. │ └─testthat:::expect_condition_matching(...) 3. │ └─testthat:::quasi_capture(...) 4. │ ├─testthat (local) .capture(...) 5. │ │ └─base::withCallingHandlers(...) 6. │ └─rlang::eval_bare(quo_get_expr(.quo), quo_get_env(.quo)) 7. ├─base::do.call(runDA, args) 8. ├─treeclimbR (local) ``(...) 9. │ └─treeclimbR:::.assertVector(x = TSE, type = "TreeSummarizedExperiment") 10. └─methods (local) ``(``) 11. └─methods:::.requirePackage(package) [ FAIL 1 | WARN 0 | SKIP 0 | PASS 2046 ] Error: Test failures Execution halted * checking for unstated dependencies in vignettes ... OK * checking package vignettes ... OK * checking running R code from vignettes ... SKIPPED * checking re-building of vignette outputs ... SKIPPED * checking PDF version of manual ... OK * DONE Status: 1 ERROR See ‘/home/biocbuild/bbs-3.22-bioc/meat/treeclimbR.Rcheck/00check.log’ for details.